BEGIN:VCALENDAR
VERSION:2.0
PRODID:-//hacksw/handcal//NONSGML v1.0//EN
BEGIN:VEVENT
SUMMARY:CP BIGNY-VALLENAY 7 - SLD FUSSY 4
UID:cc312da9-5edc-41a9-a907-45351260ee6c
DTSTART:20260321T130000Z
DTEND:20260321T170000Z
LOCATION:Localisation   
CATEGORIES:Sportif
STATUS:
URL;VALUE=URI:https://fussyping18.sportsregions.fr/evenements/2026/03/21/cp-bigny-vallenay-7-sld-fussy-4-2437888
END:VEVENT
BEGIN:VEVENT
SUMMARY:EP GRACAY-GENOUILLY 3 - SLD FUSSY 3
UID:6d34acfc-97c2-4965-a153-0810514d2b5a
DTSTART:20260321T140000Z
DTEND:20260321T180000Z
LOCATION:Localisation   
CATEGORIES:Sportif
STATUS:
URL;VALUE=URI:https://fussyping18.sportsregions.fr/evenements/2026/03/21/ep-gracay-genouilly-3-sld-fussy-3-2437885
END:VEVENT
BEGIN:VEVENT
SUMMARY:SLD FUSSY 2 - ST AMAND PING 2
UID:58a63241-8cf3-4748-ba56-c3d60e8df0f3
DTSTART:20260321T140000Z
DTEND:20260321T180000Z
LOCATION: 2 Route de Vasselay 18110 FUSSY
CATEGORIES:Sportif
STATUS:
URL;VALUE=URI:https://fussyping18.sportsregions.fr/evenements/2026/03/21/sld-fussy-2-st-amand-ping-2-2437880
END:VEVENT
BEGIN:VEVENT
SUMMARY:CP MEHUNOIS 5 - SLD FUSSY 1
UID:a8cc0ef1-c29f-44bb-b6a1-1e6c6ae76b31
DTSTART:20260322T080000Z
DTEND:20260322T120000Z
LOCATION:Localisation   
CATEGORIES:Sportif
STATUS:
URL;VALUE=URI:https://fussyping18.sportsregions.fr/evenements/2026/03/22/cp-mehunois-5-sld-fussy-1-2437886
END:VEVENT
BEGIN:VEVENT
SUMMARY:SLD FUSSY 4 - AUBIGNY-SUR-NERE 4
UID:ef146f24-8f06-4d6f-b583-9ec3d6dd2941
DTSTART:20260411T130000Z
DTEND:20260411T170000Z
LOCATION: 2 Route de Vasselay 18110 FUSSY
CATEGORIES:Sportif
STATUS:
URL;VALUE=URI:https://fussyping18.sportsregions.fr/evenements/2026/04/11/sld-fussy-4-aubigny-sur-nere-4-2437877
END:VEVENT
BEGIN:VEVENT
SUMMARY:SLD FUSSY 3 - SUD TT CHER 4
UID:6c4fe88b-1c9d-4af1-852b-1ddda2b5e2c6
DTSTART:20260411T130000Z
DTEND:20260411T170000Z
LOCATION: 2 Route de Vasselay 18110 FUSSY
CATEGORIES:Sportif
STATUS:
URL;VALUE=URI:https://fussyping18.sportsregions.fr/evenements/2026/04/11/sld-fussy-3-sud-tt-cher-4-2437870
END:VEVENT
BEGIN:VEVENT
SUMMARY:TT BELLEVILLE-LERE 2 - SLD FUSSY 2
UID:26ba7888-fc9d-4b79-9e56-91be254de8a6
DTSTART:20260411T130000Z
DTEND:20260411T170000Z
LOCATION:Localisation   
CATEGORIES:Sportif
STATUS:
URL;VALUE=URI:https://fussyping18.sportsregions.fr/evenements/2026/04/11/tt-belleville-lere-2-sld-fussy-2-2437867
END:VEVENT
BEGIN:VEVENT
SUMMARY:EP GRACAY-GENOUILLY 1 - SLD FUSSY 1
UID:9ad18676-5a65-4195-a34d-420718ccd641
DTSTART:20260412T070000Z
DTEND:20260412T110000Z
LOCATION:Localisation   
CATEGORIES:Sportif
STATUS:
URL;VALUE=URI:https://fussyping18.sportsregions.fr/evenements/2026/04/12/ep-gracay-genouilly-1-sld-fussy-1-2437873
END:VEVENT
END:VCALENDAR
