BEGIN:VCALENDAR
VERSION:2.0
PRODID:-//hacksw/handcal//NONSGML v1.0//EN
BEGIN:VEVENT
SUMMARY:CP MEHUNOIS 5 - SLD FUSSY 1
UID:a8cc0ef1-c29f-44bb-b6a1-1e6c6ae76b31
DTSTART:20260322T080000Z
DTEND:20260322T120000Z
LOCATION:Localisation   
CATEGORIES:Sportif
STATUS:
URL;VALUE=URI:https://fussyping18.sportsregions.fr/evenements/2026/03/22/cp-mehunois-5-sld-fussy-1-2437886
END:VEVENT
END:VCALENDAR
